BEGIN:VCALENDAR
VERSION:2.0
PRODID:-//Les Grenouilles Bleues - ECPv4.8.2//NONSGML v1.0//EN
CALSCALE:GREGORIAN
METHOD:PUBLISH
X-WR-CALNAME:Les Grenouilles Bleues
X-ORIGINAL-URL:http://www.lesgrenouillesbleues.gp
X-WR-CALDESC:Évènements pour Les Grenouilles Bleues
BEGIN:VEVENT
DTSTART;TZID=UTC-4:20161204T080000
DTEND;TZID=UTC-4:20161204T120000
DTSTAMP:20260419T212841
CREATED:20160514T191100Z
LAST-MODIFIED:20160514T191109Z
UID:933-1480838400-1480852800@www.lesgrenouillesbleues.gp
SUMMARY:Aquathlon
DESCRIPTION:Qualificatif pour championnats de France Jeunes \n
URL:http://www.lesgrenouillesbleues.gp/calendrier-triathlon-guadeloupe/aquathlon-2/
LOCATION:Basse Terre\, Basse Terre\, Guadeloupe
CATEGORIES:Aquathlon,Aquathlon Jeunes
END:VEVENT
END:VCALENDAR