BEGIN:VCALENDAR
VERSION:2.0
PRODID:-//Les Grenouilles Bleues - ECPv4.8.2//NONSGML v1.0//EN
CALSCALE:GREGORIAN
METHOD:PUBLISH
X-WR-CALNAME:Les Grenouilles Bleues
X-ORIGINAL-URL:http://www.lesgrenouillesbleues.gp
X-WR-CALDESC:Évènements pour Les Grenouilles Bleues
BEGIN:VEVENT
DTSTART;TZID=UTC-4:20160605T080000
DTEND;TZID=UTC-4:20160605T120000
DTSTAMP:20260419T115945
CREATED:20160514T174204Z
LAST-MODIFIED:20160514T180254Z
UID:913-1465113600-1465128000@www.lesgrenouillesbleues.gp
SUMMARY:Aquathlon
DESCRIPTION:Challenge Jeunes \nMini-poussins à vétérans \n
URL:http://www.lesgrenouillesbleues.gp/calendrier-triathlon-guadeloupe/aquathlon/
LOCATION:Le Gosier\, Le Gosier\, 97190\, Guadeloupe
CATEGORIES:Aquathlon,Aquathlon Jeunes,Aquathlon XS
END:VEVENT
END:VCALENDAR