BEGIN:VCALENDAR
VERSION:2.0
PRODID:-//Les Grenouilles Bleues - ECPv4.8.2//NONSGML v1.0//EN
CALSCALE:GREGORIAN
METHOD:PUBLISH
X-WR-CALNAME:Les Grenouilles Bleues
X-ORIGINAL-URL:http://www.lesgrenouillesbleues.gp
X-WR-CALDESC:Évènements pour Les Grenouilles Bleues
BEGIN:VEVENT
DTSTART;TZID=UTC-4:20190307T180000
DTEND;TZID=UTC-4:20190307T210000
DTSTAMP:20260420T002334
CREATED:20190304T151450Z
LAST-MODIFIED:20190304T151450Z
UID:1689-1551981600-1551992400@www.lesgrenouillesbleues.gp
SUMMARY:Assemblée générale 2019
DESCRIPTION:Bonjour\,\n\n\n\n\n\n\n\n\n\n\n\n\n\n\n\n\n\n\n\n\nLe bureau vous convie à :\nL’ Assemblée générale ordinaire de l’association des Grenouilles Bleues qui se tiendra le jeudi 7 mars 2019 au centre culturel Gérard Lockel de Belcourt\, Baie-Mahault à 18H.\n– Ordre du jour :\n– Allocution de bienvenue\n– PV de l’AG de 2018- Rapport moral (président)- Rapport d’activité (secrétaire\, secrétaire adjoint\, trésorier\, trésorier adjoint\, vice-président)- Rapport de trésorerie (trésoriere)- Rapport AG de la Ligue- Election du nouveau bureau-Questions diverses\nNous vous rappellons que pour que les actions soient entérinées\, il faut absolument que le quorum soit atteint en terme de présentation ou représentation des adhérents d’autant plus que cette AG est élective.\n pv ag signé 2018\nNous comptons donc sur votre présence en nombre à cette AG.\nEn ce sens\, si il vous est impossible de venir vous pouvez vous faire représenter directement par le bureau ou par un autre adhérent. Pour se faire envoyez un mail ou « Message privé » Wathsapp au bureau avec la formulation suivante :\nJe soussigné (nom\, prénom)…………………………… demeurant à ……………………… donne pouvoir à (nom\, prénom)………………. pour me représenter et prendre part aux votes en mon nom lors de l’Assemblée Générale Ordinaire de l’association .Les Grenouilles Bleues… du .07 mars 2019 . qui se tiendra à la salle Gérard Lockel à 18H\n\n\n\n\n\n\n\n\n\n\n\n\n\n\n\n\n\n\n\n
URL:http://www.lesgrenouillesbleues.gp/calendrier-triathlon-guadeloupe/assemblee-generale-2019/
LOCATION:Baie-Mahault\, Baie-Mahault\, 97122\, Guadeloupe
END:VEVENT
END:VCALENDAR