BEGIN:VCALENDAR
VERSION:2.0
PRODID:-//Les Grenouilles Bleues - ECPv4.8.2//NONSGML v1.0//EN
CALSCALE:GREGORIAN
METHOD:PUBLISH
X-WR-CALNAME:Les Grenouilles Bleues
X-ORIGINAL-URL:http://www.lesgrenouillesbleues.gp
X-WR-CALDESC:Évènements pour Les Grenouilles Bleues
BEGIN:VEVENT
DTSTART;TZID=UTC-4:20161106T080000
DTEND;TZID=UTC-4:20161106T120000
DTSTAMP:20260419T170743
CREATED:20160514T190601Z
LAST-MODIFIED:20160514T190601Z
UID:930-1478419200-1478433600@www.lesgrenouillesbleues.gp
SUMMARY:Gwadathlon
DESCRIPTION:Cadets à Vétérans \n
URL:http://www.lesgrenouillesbleues.gp/calendrier-triathlon-guadeloupe/gwadathlon/
LOCATION:Morne à l’Eau\, Morne à l'Eau\, Guadeloupe
CATEGORIES:Gwadathlon
END:VEVENT
END:VCALENDAR