BEGIN:VCALENDAR
VERSION:2.0
PRODID:-//Les Grenouilles Bleues - ECPv4.8.2//NONSGML v1.0//EN
CALSCALE:GREGORIAN
METHOD:PUBLISH
X-WR-CALNAME:Les Grenouilles Bleues
X-ORIGINAL-URL:http://www.lesgrenouillesbleues.gp
X-WR-CALDESC:Évènements pour Les Grenouilles Bleues
BEGIN:VEVENT
DTSTART;TZID=UTC-4:20161218T080000
DTEND;TZID=UTC-4:20161218T170000
DTSTAMP:20260419T225003
CREATED:20160904T195615Z
LAST-MODIFIED:20160904T195652Z
UID:1024-1482048000-1482080400@www.lesgrenouillesbleues.gp
SUMMARY:Rèd Nwèl
DESCRIPTION:Raid multi-activités \n
URL:http://www.lesgrenouillesbleues.gp/calendrier-triathlon-guadeloupe/red-nwel/
LOCATION:Basse Terre\, Basse Terre\, Guadeloupe
CATEGORIES:Raid
END:VEVENT
END:VCALENDAR